BEGIN:VCALENDAR
VERSION:2.0
PRODID:-//Kiwanis Club of Corrales - ECPv6.15.20//NONSGML v1.0//EN
CALSCALE:GREGORIAN
METHOD:PUBLISH
X-ORIGINAL-URL:https://kiwanis-corrales.org
X-WR-CALDESC:Events for Kiwanis Club of Corrales
REFRESH-INTERVAL;VALUE=DURATION:PT1H
X-Robots-Tag:noindex
X-PUBLISHED-TTL:PT1H
BEGIN:VTIMEZONE
TZID:UTC
BEGIN:STANDARD
TZOFFSETFROM:+0000
TZOFFSETTO:+0000
TZNAME:UTC
DTSTART:20250101T000000
END:STANDARD
END:VTIMEZONE
BEGIN:VEVENT
DTSTART;TZID=UTC:20260506T073000
DTEND;TZID=UTC:20260506T083000
DTSTAMP:20260425T140148
CREATED:20260406T202338Z
LAST-MODIFIED:20260406T202555Z
UID:418-1778052600-1778056200@kiwanis-corrales.org
SUMMARY:Regular Meeting
DESCRIPTION:
URL:https://kiwanis-corrales.org/event/regular-meeting-12/
LOCATION:Corrales Community Center\, 4324 Corrales Rd\, Corrales\, 870418\, United States
ATTACH;FMTTYPE=image/png:https://kiwanis-corrales.org/wp-content/uploads/2024/02/KI_Club-of-Corrales_BLUEGOLD.png
ORGANIZER;CN="Club President":MAILTO:president@kiwanis-corrales.org
END:VEVENT
BEGIN:VEVENT
DTSTART;TZID=UTC:20260513T073000
DTEND;TZID=UTC:20260513T083000
DTSTAMP:20260425T140148
CREATED:20260406T202707Z
LAST-MODIFIED:20260406T205905Z
UID:420-1778657400-1778661000@kiwanis-corrales.org
SUMMARY:Regular Meeting
DESCRIPTION:
URL:https://kiwanis-corrales.org/event/regular-meeting-13/
LOCATION:Corrales Community Center\, 4324 Corrales Rd\, Corrales\, 870418\, United States
ATTACH;FMTTYPE=image/png:https://kiwanis-corrales.org/wp-content/uploads/2024/02/KI_Club-of-Corrales_BLUEGOLD.png
ORGANIZER;CN="Club President":MAILTO:president@kiwanis-corrales.org
END:VEVENT
BEGIN:VEVENT
DTSTART;TZID=UTC:20260520T073000
DTEND;TZID=UTC:20260520T083000
DTSTAMP:20260425T140148
CREATED:20260406T202800Z
LAST-MODIFIED:20260406T210220Z
UID:422-1779262200-1779265800@kiwanis-corrales.org
SUMMARY:Regular Meeting
DESCRIPTION:
URL:https://kiwanis-corrales.org/event/regular-meeting-14/
LOCATION:Corrales Community Center\, 4324 Corrales Rd\, Corrales\, 870418\, United States
ATTACH;FMTTYPE=image/png:https://kiwanis-corrales.org/wp-content/uploads/2024/02/KI_Club-of-Corrales_BLUEGOLD.png
ORGANIZER;CN="Club President":MAILTO:president@kiwanis-corrales.org
END:VEVENT
BEGIN:VEVENT
DTSTART;TZID=UTC:20260527T073000
DTEND;TZID=UTC:20260527T083000
DTSTAMP:20260425T140148
CREATED:20260406T203310Z
LAST-MODIFIED:20260406T205545Z
UID:424-1779867000-1779870600@kiwanis-corrales.org
SUMMARY:Regular Meeting
DESCRIPTION:
URL:https://kiwanis-corrales.org/event/regular-meeting-15/
LOCATION:Corrales Community Center\, 4324 Corrales Rd\, Corrales\, 870418\, United States
ATTACH;FMTTYPE=image/png:https://kiwanis-corrales.org/wp-content/uploads/2024/02/KI_Club-of-Corrales_BLUEGOLD.png
ORGANIZER;CN="Club President":MAILTO:president@kiwanis-corrales.org
END:VEVENT
END:VCALENDAR