BEGIN:VCALENDAR
VERSION:2.0
PRODID:-//Kiwanis Club of Corrales - ECPv6.15.20//NONSGML v1.0//EN
CALSCALE:GREGORIAN
METHOD:PUBLISH
X-ORIGINAL-URL:https://kiwanis-corrales.org
X-WR-CALDESC:Events for Kiwanis Club of Corrales
REFRESH-INTERVAL;VALUE=DURATION:PT1H
X-Robots-Tag:noindex
X-PUBLISHED-TTL:PT1H
BEGIN:VTIMEZONE
TZID:UTC
BEGIN:STANDARD
TZOFFSETFROM:+0000
TZOFFSETTO:+0000
TZNAME:UTC
DTSTART:20250101T000000
END:STANDARD
END:VTIMEZONE
BEGIN:VEVENT
DTSTART;TZID=UTC:20260121T073000
DTEND;TZID=UTC:20260121T083000
DTSTAMP:20260425T165435
CREATED:20260116T214343Z
LAST-MODIFIED:20260116T214624Z
UID:371-1768980600-1768984200@kiwanis-corrales.org
SUMMARY:Regular Meeting
DESCRIPTION:
URL:https://kiwanis-corrales.org/event/regular-meeting-6-26-24-copy/
LOCATION:Corrales Community Center\, 4324 Corrales Rd\, Corrales\, 870418\, United States
ATTACH;FMTTYPE=image/png:https://kiwanis-corrales.org/wp-content/uploads/2024/02/KI_Club-of-Corrales_BLUEGOLD.png
ORGANIZER;CN="Club President":MAILTO:president@kiwanis-corrales.org
END:VEVENT
BEGIN:VEVENT
DTSTART;TZID=UTC:20260128T073000
DTEND;TZID=UTC:20260128T083000
DTSTAMP:20260425T165435
CREATED:20260116T220454Z
LAST-MODIFIED:20260116T220512Z
UID:395-1769585400-1769589000@kiwanis-corrales.org
SUMMARY:Regular Meeting
DESCRIPTION:
URL:https://kiwanis-corrales.org/event/regular-meeting-10/
LOCATION:Corrales Community Center\, 4324 Corrales Rd\, Corrales\, 870418\, United States
ATTACH;FMTTYPE=image/png:https://kiwanis-corrales.org/wp-content/uploads/2024/02/KI_Club-of-Corrales_BLUEGOLD.png
ORGANIZER;CN="Club President":MAILTO:president@kiwanis-corrales.org
END:VEVENT
END:VCALENDAR